BEGIN:VCALENDAR
VERSION:2.0
PRODID:-//Tukios.com/
BEGIN:VEVENT
UID:8c5c1e9c-4ba1-4f39-bc2f-630b6f234d20@www.morrisbaker.com
DTSTAMP:20260420T194055Z
DTSTART:20260523T210000Z
DTEND:20260523T220000Z
SUMMARY:Celebration of Life
DESCRIPTION:
URL:https://www.morrisbaker.com/obituaries/david-close
LOCATION:Fischman Gallery 133 N Commerce St  Johnson City TN 37604
GEO:36.3173298;-82.3534338
END:VEVENT
END:VCALENDAR