BEGIN:VCALENDAR
VERSION:2.0
PRODID:-//Tukios.com/
BEGIN:VEVENT
UID:1b0ce331-f9b0-41b9-b721-0edee159f293@www.morrisbaker.com
DTSTAMP:20260425T181926Z
DTSTART:20260502T160000Z
DTEND:20260502T170000Z
SUMMARY:Graveside Service
DESCRIPTION:
URL:https://www.morrisbaker.com/obituaries/dorothy-barber
LOCATION:Monte Vista Memorial Park 1900 E Oakland Ave  Johnson City TN 
	37601
GEO:36.3492783;-82.3540047
END:VEVENT
END:VCALENDAR